BEGIN:VCALENDAR
VERSION:2.0
PRODID:-//Wish2helptrust - ECPv5.10.1//NONSGML v1.0//EN
CALSCALE:GREGORIAN
METHOD:PUBLISH
X-WR-CALNAME:Wish2helptrust
X-ORIGINAL-URL:https://wish2helptrust.org
X-WR-CALDESC:Events for Wish2helptrust
BEGIN:VTIMEZONE
TZID:Asia/Kolkata
BEGIN:STANDARD
TZOFFSETFROM:+0530
TZOFFSETTO:+0530
TZNAME:IST
DTSTART:20210101T000000
END:STANDARD
END:VTIMEZONE
BEGIN:VEVENT
DTSTART;TZID=Asia/Kolkata:20211103T170000
DTEND;TZID=Asia/Kolkata:20211103T190000
DTSTAMP:20260421T171354
CREATED:20211028T144740Z
LAST-MODIFIED:20211028T150156Z
UID:2113-1635958800-1635966000@wish2helptrust.org
SUMMARY:9ஆம் ஆண்டு திருநகர் பக்கம் கொண்டாடும் தீபஒளித் திருநாள்!
DESCRIPTION:9ஆம் ஆண்டு திருநகர் பக்கம் கொண்டாடும் தீபஒளித் திருநாள்! \nஉங்கள் அனைவரையும் அழைக்கின்றோம்🙏 \nஇந்த தீபஒளி 2021 திருநாளை திருநகர் பக்கம் குழுவினர் பழங்குடியினர் கிராமத்தில் கொண்டாட திட்டமிட்டுள்ளது. \nஇத்தனை ஆண்டுகாலம் இரவில் மின்சாரம் இன்றி இருளில் வாழ்ந்து வந்த மக்களின் விடிவு காலமாக இந்த தீபாவளியில் அவர்களுக்கு இந்த திட்டத்திற்கு நன்கொடை வழங்கிய பெரும் கொடையால் சூரிய மின்சக்தி இயக்க மின் சாதன விளக்குகள்(சோலார்) ஒவ்வொரு வீட்டிற்கும் கிடைக்கப்பெற்றது. மேலும் சிலருக்கு அரசின் கவனத்தில் ஏற்கப்பட்டு மின்சாரமும்\, பட்டாவும் கிடைக்கப்பெற்றது.\nஉண்மையில் இந்த வருடம் அவர்களுக்கு இது கொண்டாடி மகிழும் ஒரு நாள் தான். \nவருகின்ற 03.11.2021 (புதன்கிழமை) மாலை 5 மணியளவில் சோலார் மின் விளக்கு இயக்க தொடக்கவிழா\, குழந்தைகளுக்கு புத்தாடை வழங்குதல்\, அனைத்து குடும்பங்களுக்கும் தீபாவளி பலகாரங்கள் மற்றும் இரவு விருந்து என அன்றைய மாலை அவர்களுடன்\, அவர்கள் பகுதியில்\, அவர்களின் மகிழ்ச்சியில் ஒரே குடும்பமாக நாமும் பங்கெடுப்போம்… \nவாருங்கள்🙏 \nஇடம்: காட்டு நாயக்கர் காலணி\, ஜேஜே நகர்\, நிலையூர்\, திருப்பரங்குன்றம்\, மதுரை 05.\nநாள் : 03.11.20221\nநேரம் : மாலை 5 மணி \nமேலும் விவரங்களுக்கு\n9940832133\, 8608700088
URL:https://wish2helptrust.org/event/diwali-2021-celebration/
LOCATION:omsakthi nagar\, Nilaiyur\, Kattunayakar colony\, Madurai\, India
CATEGORIES:Events
ATTACH;FMTTYPE=image/jpeg:https://wish2helptrust.org/wp-content/uploads/2021/10/IMG-20211027-WA0039.jpg
END:VEVENT
END:VCALENDAR